BEGIN:VCALENDAR
VERSION:2.0
PRODID:-//Osprey Scientific Inc. - ECPv5.7.0//NONSGML v1.0//EN
CALSCALE:GREGORIAN
METHOD:PUBLISH
X-WR-CALNAME:Osprey Scientific Inc.
X-ORIGINAL-URL:https://www.ospreyscientific.com
X-WR-CALDESC:Events for Osprey Scientific Inc.
BEGIN:VTIMEZONE
TZID:UTC
BEGIN:STANDARD
TZOFFSETFROM:+0000
TZOFFSETTO:+0000
TZNAME:UTC
DTSTART:20170101T000000
END:STANDARD
END:VTIMEZONE
BEGIN:VEVENT
DTSTART;VALUE=DATE:20170809
DTEND;VALUE=DATE:20170810
DTSTAMP:20260420T234204
CREATED:20170705T014519Z
LAST-MODIFIED:20170705T014519Z
UID:22385-1502236800-1502323199@www.ospreyscientific.com
SUMMARY:CLRA Annual Charity Golf Tournament
DESCRIPTION:Osprey Scientific will be sponsoring at the CLRA Annual Charity Golf Tournament in Innisfail\, Alberta at the Innisfail Golf Club on August 9th. Karen Schmidt and Linda Lam will be at the “Closest to the Pin in Three Hole” on Hazelwood 5.
URL:https://www.ospreyscientific.com/event/clra-annual-charity-golf-tournament/
LOCATION:Innisfail Golf Club\, Innisfail\, Alberta\, Canada
END:VEVENT
END:VCALENDAR